BEGIN:VCALENDAR
VERSION:2.0
PRODID:icalendar-ruby
CALSCALE:GREGORIAN
METHOD:PUBLISH
BEGIN:VEVENT
DTSTAMP:20260422T221254Z
UID:7-878252@southcharlotte.tithelysetup5.com
DTSTART:20261004T150000Z
DTEND:20261004T160000Z
CLASS:PUBLIC
CREATED:20260422T164627
DESCRIPTION:Sunday Morning Worship
LAST-MODIFIED:20260422T164627
LOCATION:Scott Auditorium
SUMMARY:Sunday Morning Worship
URL;VALUE=URI:https://www.southcharlottebaptist.org/events/sunday-morning-w
 orship/2026-10-04
ATTACH;FILENAME=Sunday-Morning-Worship.png;FMTTYPE=image/png:https://dq5pwp
 g1q8ru0.cloudfront.net/2024/11/30/13/32/30/238c79bf-8d36-4ed2-824f-207f006
 2deb1/Sunday-Morning-Worship.png
END:VEVENT
END:VCALENDAR
