BEGIN:VCALENDAR
VERSION:2.0
PRODID:icalendar-ruby
CALSCALE:GREGORIAN
METHOD:PUBLISH
BEGIN:VEVENT
DTSTAMP:20260419T150717Z
UID:47-864944@southcharlotte.tithelysetup5.com
DTSTART:20241110T223000Z
DTEND:20241110T233000Z
CLASS:PUBLIC
CREATED:20260419T083527
DESCRIPTION:Teen Extreme is our weekly youth group for teens in the 7th thr
 ough 12th grades. This year\, the teens will be learning about the Dynamic
  Christian Life!
LAST-MODIFIED:20260419T083527
LOCATION:Upper Room
SUMMARY:Teen Extreme
URL;VALUE=URI:https://www.southcharlottebaptist.org/events/teen-extreme/202
 4-11-10
ATTACH;FILENAME=2024-Teen-Extreme.png;FMTTYPE=image/png:https://dq5pwpg1q8r
 u0.cloudfront.net/2024/09/06/03/30/07/9f6422d1-6677-4dd6-bb22-39fd720adfe2
 /2024-Teen-Extreme.png
END:VEVENT
END:VCALENDAR
